BEGIN:VCALENDAR
PRODID:-//PUBBLE//agenda//NL
VERSION:2.0
METHOD:PUBLISH
BEGIN:VEVENT
DTSTART:20250914T080000Z
DTEND:20250914T091500Z
DTSTAMP:20260425T170353Z
UID:fbf15614-52cf-4b02-8615-339a0178a81e
CREATED:20260425T170353Z
NAME:Ds. H. de Graaf, Harderwijk aaltenvooruit.nl
X-WR-CALNAME:Ds. H. de Graaf, Harderwijk
X-ALT-DESC;FMTTYPE=text/html:<a href='/agenda/2025/9/14/ds-h-de-graaf-harderwijk-525578'>/agenda/2025/9/14/ds-h-de-graaf-harderwijk-525578</a> || <p>uitgezonden op www.cgkaalten.nl</p>
DESCRIPTION:<a href='/agenda/2025/9/14/ds-h-de-graaf-harderwijk-525578'>/agenda/2025/9/14/ds-h-de-graaf-harderwijk-525578</a> || <p>uitgezonden op www.cgkaalten.nl</p>
LAST-MODIFIED:20260425T170353Z
LOCATION: Christelijke Gereformeerde Kerk Aalten | Berkenhovestraat 9 Aalten
SEQUENCE:0
STATUS:CONFIRMED
SUMMARY:Ds. H. de Graaf, Harderwijk
TRANSP:OPAQUE
END:VEVENT
END:VCALENDAR
