BEGIN:VCALENDAR
PRODID:-//PUBBLE//agenda//NL
VERSION:2.0
METHOD:PUBLISH
BEGIN:VEVENT
DTSTART:20251115T173000Z
DTEND:20251115T203000Z
DTSTAMP:20260419T125906Z
UID:41222cef-4e0f-48ce-b380-b2156f4f0c24
CREATED:20260419T125906Z
NAME:Jubileumconcert 50 jaar Gospelkoor “Inspiration - Vorden” aaltenvooruit.nl
X-WR-CALNAME:Jubileumconcert 50 jaar Gospelkoor “Inspiration - Vorden”
X-ALT-DESC;FMTTYPE=text/html:<a href='/agenda/2025/11/15/jubileumconcert-50-jaar-gospelkoor-inspiration-vorden--525368'>/agenda/2025/11/15/jubileumconcert-50-jaar-gospelkoor-inspiration-vorden--525368</a> || <p>Gospelkoor ‘Inspiration-Vorden’ bestaat dit jaar vijftig jaar. In het kader van dit gouden jubileum verzorgt het koor zaterdagavond 15 november in de Christus Koningkerk te Vorden een speciaal jubileumconcert met als titel ‘Let’s join in celebration’.&nbsp;</p><p>Aan dat samen vieren verleent ook een ensemble van Harmonie Vorden en harpistes ‘Harpkracht’ haar medewerking. Het concert begint om 19.30 uur. Kaarten zijn in de voorverkoop verkrijgbaar bij de Bruna in Vorden en via de website www.inspirationvorden.nl &nbsp;</p>
DESCRIPTION:<a href='/agenda/2025/11/15/jubileumconcert-50-jaar-gospelkoor-inspiration-vorden--525368'>/agenda/2025/11/15/jubileumconcert-50-jaar-gospelkoor-inspiration-vorden--525368</a> || <p>Gospelkoor ‘Inspiration-Vorden’ bestaat dit jaar vijftig jaar. In het kader van dit gouden jubileum verzorgt het koor zaterdagavond 15 november in de Christus Koningkerk te Vorden een speciaal jubileumconcert met als titel ‘Let’s join in celebration’.&nbsp;</p><p>Aan dat samen vieren verleent ook een ensemble van Harmonie Vorden en harpistes ‘Harpkracht’ haar medewerking. Het concert begint om 19.30 uur. Kaarten zijn in de voorverkoop verkrijgbaar bij de Bruna in Vorden en via de website www.inspirationvorden.nl &nbsp;</p>
LAST-MODIFIED:20260419T125906Z
LOCATION: Christus Koning Kerk | het Jebbink 8 Vorden
SEQUENCE:0
STATUS:CONFIRMED
SUMMARY:Jubileumconcert 50 jaar Gospelkoor “Inspiration - Vorden”
TRANSP:OPAQUE
END:VEVENT
END:VCALENDAR
